Workbook
Name _ftn1: '2'!#REF!
Name _ftnref1: '1'!$D$27
Name _ftnref3: '2'!$D$9

Sheet Capa
A1: MEGplan MEGIA 2026 | E1: Registro de Avaliações PPQG MEGIA | J1: #VALUE!
A2: v0
I3: Token de licenciamento anual--->
A5: Organiz.: | I5: =IF(E$7<>ABS(YEAR(TODAY())-$J$3),"Não Licenciada","") -> Não Licenciada
A6: Nível: | B6: 0 | C6: Processos Gerenciais que aparecerem em vermelho são de outro Nível e não devem ser respondidos. Usar Nível zero para "B".
A7: CNPJ: | E7: =IF(ISNUMBER(VALUE(RIGHT(B7,2))), VALUE(RIGHT(B7,2)),0) -> 0
A8: O documento com os Critérios PPQG MEGIA estão disponíveis no site www.ppqg.org.br. Os Critérios (abas) de 1 a 7 avaliam Processos Gerenciais e os Itens (abas) de 8.1 a 8.7 avaliam os Resultados no Critério 8. A pontuação alcançada na avaliação é apresentada na aba 'Quadro Geral'. Para planilha não licenciada, o cálculo é válido apenas para Critério 1 e Item 8.1. Para licenciar e ter garantia contra falhas e suporte remoto, solicitar token numérico de licenciamento, passando o CNPJ e Nome da Empresa ou Instituição para 'ajuda@compumax.com.br' ou, se for Examinador do ciclo, solicitar ao IPEG. A renovação anual do token é gratuita para a planilha do ciclo e deve ser solicitada no email citado. As abas de 1 a 8.7 estão protegidas pela senha "/" para proteger fórmulas contra alteração acidental. Se a senha for modificada ou fórmulas alteradas, não há garantia. | J8: Controle de versão
P9: Pts | Q9: Qtd
A10: Estatísticas | P10: 125 | Q10: 26
C11: Estatísticas | P11: 250 | Q11: 48
A12: Critério | C12: PGs Tots | D12: PGs Avals | E12: % | G12: Pesos dos Graus de avaliação de PGs para o Nível | P12: 500 | Q12: 66
A13: 1 | C13: =COUNTIF('1'!A5:'1'!A30,"=1") -> 6 | D13: =COUNTIFS('1'!A4:'1'!A30,">0",'1'!K4:'1'!K30,"<>") -> 0 | E13: =D13/C13 -> 0 | G13: 1 | H13: 2 | I13: 3 | J13: 4 | P13: 1000 | Q13: 80
A14: 2 | C14: =COUNTIF('2'!A5:'2'!A28,"=1") -> 5 | D14: =COUNTIFS('2'!A4:'2'!A28,">0",'2'!M4:'2'!M28,"<>") -> 0 | E14: =D14/C14 -> 0 | G14: =IF($B$6=0,100,IF($B$6=1,50,IF($B$6=2,33,25))) -> 100 | H14: =IF($B$6=0,100,IF($B$6=1,100,IF($B$6=2,67,50))) -> 100 | I14: =IF($B$6=0,100,IF($B$6=1,100,IF($B$6=2,100,75))) -> 100 | J14: =IF($B$6=0,100,IF($B$6=1,100,IF($B$6=2,100,100))) -> 100
A15: 3 | C15: =COUNTIF('3'!A5:'3'!A22,"=1") -> 3 | D15: =COUNTIFS('3'!A4:'3'!A22,">0",'3'!M4:'3'!M22,"<>") -> 0 | E15: =D15/C15 -> 0
A16: 4 | C16: =COUNTIF('4'!A5:'4'!A19,"=1") -> 2 | D16: =COUNTIFS('4'!A4:'4'!A19,">0",'4'!M4:'4'!M19,"<>") -> 0 | E16: =D16/C16 -> 0
A17: 5 | C17: =COUNTIF('5'!A5:'5'!A23,"=1") -> 1 | D17: =COUNTIFS('5'!A4:'5'!A23,">0",'5'!M4:'5'!M23,"<>") -> 0 | E17: =D17/C17 -> 0
A18: 6 | C18: =COUNTIF('6'!A5:'6'!A20,"=1") -> 3 | D18: =COUNTIFS('6'!A4:'6'!A20,">0",'6'!M4:'6'!M20,"<>") -> 0 | E18: =D18/C18 -> 0
A19: 7 | C19: =COUNTIF('7'!A5:'7'!A27,"=1") -> 6 | D19: =COUNTIFS('7'!A4:'7'!A27,">0",'7'!M4:'7'!M27,"<>") -> 0 | E19: =D19/C19 -> 0
A20: Total | C20: =SUM(C13:C19) -> 26 | D20: =SUM(D13:D19) -> 0 | E20: =D20/C20 -> 0
A22: #VALUE! | I22: Desenvolvido por

Sheet 1
D1: =Capa!A1 -> MEGplan MEGIA 2026 | F1: Fatores de avaliação
B2: Nv | C2: Cód | F2: Enx | G2: Proa | H2: Digit | I2: IA? | J2: Abrg | K2: Efet | L2: Inov | M2: Orig? | N2: Bônus | O2: Comentário | P2: + / - | Q2: Prática
D3: =IF(SUM(A4:A30)<=0,0,COUNTIFS(A4:A30,">0",K4:K30,"<>")/SUM(A4:A30)) -> 0 | F3: =MIN(IF(OR(Capa!$B$6=0,Capa!$B$6=1),AVERAGE(F6,F12,F21),(F6*'Quadro Geral'!D5+F12*'Quadro Geral'!D6+F21*'Quadro Geral'!D7)/'Quadro Geral'!D4)+N3,1) -> 0 | N3: =IF(OR(AND(Capa!$B$6=2,I4>0),AND(Capa!$B$6=3,I4>1)),0.05,0)+IF(AND(Capa!$B$6=3,I4=1),0.02,0)+IF(OR(AND(Capa!$B$6=2,M4>0),AND(Capa!$B$6=3,M4>1)),0.05,0)+IF(AND(Capa!$B$6=3,M4=1),0.02,0) -> 0
B4: =IF(ISBLANK(C4),"",IF(ISERR(SEARCH(C4&"\","<B>\<1>\<2>\<3>\")),IF(AND(NOT(ISBLANK(B2)),B2<=3),B2,""), IF(SEARCH(C4&"\","<B>\<1>\<2>\<3>\")=1,0,IF(SEARCH(C4&"\","<B>\<1>\<2>\<3>\")=5,1,IF(SEARCH(C4&"\","<B>\<1>\<2>\<3>\")=9,2,IF(SEARCH(C4&"\","<B>\<1>\<2>\<3>\")=13,3,"")))))) | D4: CRITÉRIO 1 - LIDERANÇA | E4: Este Critério avalia os processos gerenciais de desenvolvimento da cultura, governança e exercício da liderança. | F4: =AVERAGE(F7,F13,F22) -> 0 | G4: =AVERAGE(G7,G13,G22) -> 0 | H4: =AVERAGE(H7,H13,H22) -> 0 | I4: =I7+I13+I22 -> 0 | J4: =AVERAGE(J7,J13,J22) -> 0 | K4: =AVERAGE(K7,K13,K22) -> 0 | L4: =AVERAGE(L7,L13,L22) -> 0 | M4: =M7+M13+M22 -> 0
B5: =IF(ISBLANK(C5),"",IF(ISERR(SEARCH(C5&"\","<B>\<1>\<2>\<3>\")),IF(AND(NOT(ISBLANK(#REF!)),#REF!<=3),#REF!,""), IF(SEARCH(C5&"\","<B>\<1>\<2>\<3>\")=1,0,IF(SEARCH(C5&"\","<B>\<1>\<2>\<3>\")=5,1,IF(SEARCH(C5&"\","<B>\<1>\<2>\<3>\")=9,2,IF(SEARCH(C5&"\","<B>\<1>\<2>\<3>\")=13,3,""))))))
B6: =IF(ISBLANK(C6),"",IF(ISERR(SEARCH(C6&"\","<B>\<1>\<2>\<3>\")),IF(AND(NOT(ISBLANK(B5)),B5<=3),B5,""), IF(SEARCH(C6&"\","<B>\<1>\<2>\<3>\")=1,0,IF(SEARCH(C6&"\","<B>\<1>\<2>\<3>\")=5,1,IF(SEARCH(C6&"\","<B>\<1>\<2>\<3>\")=9,2,IF(SEARCH(C6&"\","<B>\<1>\<2>\<3>\")=13,3,"")))))) | D6: ='Quadro Geral'!B5 -> 1.1 Desenvolvimento da cultura | F6: =(F7*20+G7*10+H7*10+J7*30+K7*15+L7*15)/100 -> 0
B7: =IF(ISBLANK(C7),"",IF(ISERR(SEARCH(C7&"\","<B>\<1>\<2>\<3>\")),IF(AND(NOT(ISBLANK(B6)),B6<=3),B6,""), IF(SEARCH(C7&"\","<B>\<1>\<2>\<3>\")=1,0,IF(SEARCH(C7&"\","<B>\<1>\<2>\<3>\")=5,1,IF(SEARCH(C7&"\","<B>\<1>\<2>\<3>\")=9,2,IF(SEARCH(C7&"\","<B>\<1>\<2>\<3>\")=13,3,"")))))) | D7: =IF(SUM(A8:A11)<=0,0,COUNTIF(K8:K11,"<>")/SUM(A8:A11)) -> 0 | E7: Finalidade | F7: =(COUNTIFS($A7:$A11,">0",$C7:$C11,"=PG",F7:F11,"=1")*Capa!$G$14+COUNTIFS($A7:$A11,">0",$C7:$C11,"=PG",F7:F11,"=2")*Capa!$H$14+COUNTIFS($A7:$A11,">0",$C7:$C11,"=PG",F7:F11,"=3")*Capa!$I$14+COUNTIFS($A7:$A11,">0",$C7:$C11,"=PG",F7:F11,"=4")*Capa!$J$14)/(COUNTIFS($A7:$A11,">0",$C7:$C11,"=PG")*100) -> 0 | G7: =(COUNTIFS($A7:$A11,">0",$C7:$C11,"=PG",G7:G11,"=1")*Capa!$G$14+COUNTIFS($A7:$A11,">0",$C7:$C11,"=PG",G7:G11,"=2")*Capa!$H$14+COUNTIFS($A7:$A11,">0",$C7:$C11,"=PG",G7:G11,"=3")*Capa!$I$14+COUNTIFS($A7:$A11,">0",$C7:$C11,"=PG",G7:G11,"=4")*Capa!$J$14)/(COUNTIFS($A7:$A11,">0",$C7:$C11,"=PG")*100) -> 0 | H7: =(COUNTIFS($A7:$A11,">0",$C7:$C11,"=PG",H7:H11,"=1")*Capa!$G$14+COUNTIFS($A7:$A11,">0",$C7:$C11,"=PG",H7:H11,"=2")*Capa!$H$14+COUNTIFS($A7:$A11,">0",$C7:$C11,"=PG",H7:H11,"=3")*Capa!$I$14+COUNTIFS($A7:$A11,">0",$C7:$C11,"=PG",H7:H11,"=4")*Capa!$J$14)/(COUNTIFS($A7:$A11,">0",$C7:$C11,"=PG")*100) -> 0 | I7: =COUNTIFS($A8:$A10,">0",I8:I10,">0") -> 0 | J7: =(COUNTIFS($A7:$A11,">0",$C7:$C11,"=PG",J7:J11,"=1")*Capa!$G$14+COUNTIFS($A7:$A11,">0",$C7:$C11,"=PG",J7:J11,"=2")*Capa!$H$14+COUNTIFS($A7:$A11,">0",$C7:$C11,"=PG",J7:J11,"=3")*Capa!$I$14+COUNTIFS($A7:$A11,">0",$C7:$C11,"=PG",J7:J11,"=4")*Capa!$J$14)/(COUNTIFS($A7:$A11,">0",$C7:$C11,"=PG")*100) -> 0 | K7: =(COUNTIFS($A7:$A11,">0",$C7:$C11,"=PG",K7:K11,"=1")*Capa!$G$14+COUNTIFS($A7:$A11,">0",$C7:$C11,"=PG",K7:K11,"=2")*Capa!$H$14+COUNTIFS($A7:$A11,">0",$C7:$C11,"=PG",K7:K11,"=3")*Capa!$I$14+COUNTIFS($A7:$A11,">0",$C7:$C11,"=PG",K7:K11,"=4")*Capa!$J$14)/(COUNTIFS($A7:$A11,">0",$C7:$C11,"=PG")*100) -> 0 | L7: =(COUNTIFS($A7:$A11,">0",$C7:$C11,"=PG",L7:L11,"=1")*Capa!$G$14+COUNTIFS($A7:$A11,">0",$C7:$C11,"=PG",L7:L11,"=2")*Capa!$H$14+COUNTIFS($A7:$A11,">0",$C7:$C11,"=PG",L7:L11,"=3")*Capa!$I$14+COUNTIFS($A7:$A11,">0",$C7:$C11,"=PG",L7:L11,"=4")*Capa!$J$14)/(COUNTIFS($A7:$A11,">0",$C7:$C11,"=PG")*100) -> 0 | M7: =COUNTIFS($A8:$A10,">0",M8:M10,">0") -> 0
A8: =IF(Capa!$B$6>=B8,1,0) -> 1 | B8: 0 | C8: PG | D8: a) Definição de valores, princípios e outras diretrizes organizacionais comprometidas com o desenvolvimento sustentável | E8: Enfatizar a filosofia e direcionamento valorizados pela organização para poder realizar sua visão de futuro, com desenvolvimento sustentável e geração de valor para as partes interessadas.
A9: =IF(Capa!$B$6>=B9,1,0) -> 0 | B9: 1 | C9: PG | D9: b) Conduta ética nas relações | E9: Formalizar, disseminar, atender e permitir o controle da integridade de ações e do atendimento a padrões de conduta esperados e avaliar a sua observância, nas relações internas e com demais partes interessadas.
A10: =IF(Capa!$B$6>=B10,1,0) -> 0 | B10: 2 | C10: PG | D10: c) Promoção de mudanças culturais | E10: Compreender os traços culturais existentes, funcionais e disfuncionais , estabelecendo e implementando planos para a mudança cultural, que promovam as estratégias, a excelência da gestão e o desenvolvimento sustentável.
B11: =IF(ISBLANK(C11),"",IF(ISERR(SEARCH(C11&"\","<B>\<1>\<2>\<3>\")),IF(AND(NOT(ISBLANK(#REF!)),#REF!<=3),#REF!,""), IF(SEARCH(C11&"\","<B>\<1>\<2>\<3>\")=1,0,IF(SEARCH(C11&"\","<B>\<1>\<2>\<3>\")=5,1,IF(SEARCH(C11&"\","<B>\<1>\<2>\<3>\")=9,2,IF(SEARCH(C11&"\","<B>\<1>\<2>\<3>\")=13,3,""))))))
B12: =IF(ISBLANK(C12),"",IF(ISERR(SEARCH(C12&"\","<B>\<1>\<2>\<3>\")),IF(AND(NOT(ISBLANK(B11)),B11<=3),B11,""), IF(SEARCH(C12&"\","<B>\<1>\<2>\<3>\")=1,0,IF(SEARCH(C12&"\","<B>\<1>\<2>\<3>\")=5,1,IF(SEARCH(C12&"\","<B>\<1>\<2>\<3>\")=9,2,IF(SEARCH(C12&"\","<B>\<1>\<2>\<3>\")=13,3,"")))))) | D12: ='Quadro Geral'!B6 -> 1.2 Governança | F12: =(F13*20+G13*10+H13*10+J13*30+K13*15+L13*15)/100 -> 0
B13: =IF(ISBLANK(C13),"",IF(ISERR(SEARCH(C13&"\","<B>\<1>\<2>\<3>\")),IF(AND(NOT(ISBLANK(B12)),B12<=3),B12,""), IF(SEARCH(C13&"\","<B>\<1>\<2>\<3>\")=1,0,IF(SEARCH(C13&"\","<B>\<1>\<2>\<3>\")=5,1,IF(SEARCH(C13&"\","<B>\<1>\<2>\<3>\")=9,2,IF(SEARCH(C13&"\","<B>\<1>\<2>\<3>\")=13,3,"")))))) | D13: =IF(SUM(A14:A20)<=0,0,COUNTIF(K14:K20,"<>")/SUM(A14:A20)) -> 0 | E13: Finalidade | F13: =(COUNTIFS($A13:$A20,">0",$C13:$C20,"=PG",F13:F20,"=1")*Capa!$G$14+COUNTIFS($A13:$A20,">0",$C13:$C20,"=PG",F13:F20,"=2")*Capa!$H$14+COUNTIFS($A13:$A20,">0",$C13:$C20,"=PG",F13:F20,"=3")*Capa!$I$14+COUNTIFS($A13:$A20,">0",$C13:$C20,"=PG",F13:F20,"=4")*Capa!$J$14)/(COUNTIFS($A13:$A20,">0",$C13:$C20,"=PG")*100) -> 0 | G13: =(COUNTIFS($A13:$A20,">0",$C13:$C20,"=PG",G13:G20,"=1")*Capa!$G$14+COUNTIFS($A13:$A20,">0",$C13:$C20,"=PG",G13:G20,"=2")*Capa!$H$14+COUNTIFS($A13:$A20,">0",$C13:$C20,"=PG",G13:G20,"=3")*Capa!$I$14+COUNTIFS($A13:$A20,">0",$C13:$C20,"=PG",G13:G20,"=4")*Capa!$J$14)/(COUNTIFS($A13:$A20,">0",$C13:$C20,"=PG")*100) -> 0 | H13: =(COUNTIFS($A13:$A20,">0",$C13:$C20,"=PG",H13:H20,"=1")*Capa!$G$14+COUNTIFS($A13:$A20,">0",$C13:$C20,"=PG",H13:H20,"=2")*Capa!$H$14+COUNTIFS($A13:$A20,">0",$C13:$C20,"=PG",H13:H20,"=3")*Capa!$I$14+COUNTIFS($A13:$A20,">0",$C13:$C20,"=PG",H13:H20,"=4")*Capa!$J$14)/(COUNTIFS($A13:$A20,">0",$C13:$C20,"=PG")*100) -> 0 | I13: =COUNTIFS($A14:$A19,">0",I14:I19,">0") -> 0 | J13: =(COUNTIFS($A13:$A20,">0",$C13:$C20,"=PG",J13:J20,"=1")*Capa!$G$14+COUNTIFS($A13:$A20,">0",$C13:$C20,"=PG",J13:J20,"=2")*Capa!$H$14+COUNTIFS($A13:$A20,">0",$C13:$C20,"=PG",J13:J20,"=3")*Capa!$I$14+COUNTIFS($A13:$A20,">0",$C13:$C20,"=PG",J13:J20,"=4")*Capa!$J$14)/(COUNTIFS($A13:$A20,">0",$C13:$C20,"=PG")*100) -> 0 | K13: =(COUNTIFS($A13:$A20,">0",$C13:$C20,"=PG",K13:K20,"=1")*Capa!$G$14+COUNTIFS($A13:$A20,">0",$C13:$C20,"=PG",K13:K20,"=2")*Capa!$H$14+COUNTIFS($A13:$A20,">0",$C13:$C20,"=PG",K13:K20,"=3")*Capa!$I$14+COUNTIFS($A13:$A20,">0",$C13:$C20,"=PG",K13:K20,"=4")*Capa!$J$14)/(COUNTIFS($A13:$A20,">0",$C13:$C20,"=PG")*100) -> 0 | L13: =(COUNTIFS($A13:$A20,">0",$C13:$C20,"=PG",L13:L20,"=1")*Capa!$G$14+COUNTIFS($A13:$A20,">0",$C13:$C20,"=PG",L13:L20,"=2")*Capa!$H$14+COUNTIFS($A13:$A20,">0",$C13:$C20,"=PG",L13:L20,"=3")*Capa!$I$14+COUNTIFS($A13:$A20,">0",$C13:$C20,"=PG",L13:L20,"=4")*Capa!$J$14)/(COUNTIFS($A13:$A20,">0",$C13:$C20,"=PG")*100) -> 0 | M13: =COUNTIFS($A14:$A19,">0",M14:M19,">0") -> 0
A14: =IF(Capa!$B$6>=B14,1,0) -> 0 | B14: 3 | C14: PG | D14: a) Estruturação da governança baseada em boas práticas | E14: Buscar assegurar o estabelecimento de rumos e controle externo independentes e íntegros sobre a organização, de forma compatível com os melhores modelos e práticas, considerando a capacidade das lideranças da estrutura, de orientar decisões, tratar dilemas relevantes, administrar interesses concorrentes e utilizar os resultados obtidos para o aprimoramento da gestão.
A15: =IF(Capa!$B$6>=B15,1,0) -> 0 | B15: 1 | C15: PG | D15: b) Controle de riscos | E15: Monitorar o levantamento e o tratamento dos riscos existentes, de acordo com prioridades determinadas pelo nível de exposição a consequências adversas e favoráveis das incertezas e pelo nível de resiliência almejado para o negócio.
A16: 1 | B16: 2 | C16: PG | D16: c) Continuidade do negócio | E16: Manter estrutura específica, com acesso a recursos essenciais pré-definidos, incluindo rede de radiocomunicação móvel independente, e métodos necessários para restaurar tempestivamente a capacidade gerencial e operacional ao regime de normalidade após eventos de ruptura potenciais. Promover a resiliência do negócio frente a eventos de ruptura, o tratamento dos riscos associados, a simulação de prontidão e da capacidade de restauração e a prestação de contas da atualização e viabilidade dos planos aos controladores e instâncias de controle de outras partes interessadas nos temas aplicáveis.
A17: =IF(Capa!$B$6>=B17,1,0) -> 0 | B17: 2 | C17: PG | D17: d) Conformidade regulatória e com diretrizes internas e externas | E17: Controlar com independência a legalidade e a aderência às diretrizes do controlador, de outras instâncias de controle internas e externas, incluindo de contratos e órgãos reguladores.
A18: =IF(Capa!$B$6>=B18,1,0) -> 1 | B18: 0 | C18: PG | D18: e) Prestação de contas de fatores chave às partes interessadas aplicáveis, incluindo das ações de desenvolvimento sustentável | E18: Dar transparência sobre os resultados e riscos aos controladores e instâncias de controle internas e externas nos temas aplicáveis, incluindo relativos ao desenvolvimento sustentável, resiliência e continuidade do negócio, segurança digital e conformidade com diretrizes e contratos.
A19: =IF(Capa!$B$6>=B19,1,0) -> 0 | B19: 1 | C19: PG | D19: f) Acompanhamento do tratamento de denúncias relevantes de partes interessadas | E19: Indicar oportunidades de ajustes nas diretrizes organizacionais para prevenção de fatos geradores de denúncias e verificar a implementação dos ajustes e comunicar as partes envolvidas.
B20: =IF(ISBLANK(C20),"",IF(ISERR(SEARCH(C20&"\","<B>\<1>\<2>\<3>\")),IF(AND(NOT(ISBLANK(#REF!)),#REF!<=3),#REF!,""), IF(SEARCH(C20&"\","<B>\<1>\<2>\<3>\")=1,0,IF(SEARCH(C20&"\","<B>\<1>\<2>\<3>\")=5,1,IF(SEARCH(C20&"\","<B>\<1>\<2>\<3>\")=9,2,IF(SEARCH(C20&"\","<B>\<1>\<2>\<3>\")=13,3,""))))))
B21: =IF(ISBLANK(C21),"",IF(ISERR(SEARCH(C21&"\","<B>\<1>\<2>\<3>\")),IF(AND(NOT(ISBLANK(B20)),B20<=3),B20,""), IF(SEARCH(C21&"\","<B>\<1>\<2>\<3>\")=1,0,IF(SEARCH(C21&"\","<B>\<1>\<2>\<3>\")=5,1,IF(SEARCH(C21&"\","<B>\<1>\<2>\<3>\")=9,2,IF(SEARCH(C21&"\","<B>\<1>\<2>\<3>\")=13,3,"")))))) | D21: ='Quadro Geral'!B7 -> 1.3 Exercício da liderança | F21: =(F22*20+G22*10+H22*10+J22*30+K22*15+L22*15)/100 -> 0
B22: =IF(ISBLANK(C22),"",IF(ISERR(SEARCH(C22&"\","<B>\<1>\<2>\<3>\")),IF(AND(NOT(ISBLANK(B21)),B21<=3),B21,""), IF(SEARCH(C22&"\","<B>\<1>\<2>\<3>\")=1,0,IF(SEARCH(C22&"\","<B>\<1>\<2>\<3>\")=5,1,IF(SEARCH(C22&"\","<B>\<1>\<2>\<3>\")=9,2,IF(SEARCH(C22&"\","<B>\<1>\<2>\<3>\")=13,3,"")))))) | D22: =IF(SUM(A23:A30)<=0,0,COUNTIF(K23:K30,"<>")/SUM(A23:A30)) -> 0 | E22: Finalidade | F22: =(COUNTIFS($A22:$A30,">0",$C22:$C30,"=PG",F22:F30,"=1")*Capa!$G$14+COUNTIFS($A22:$A30,">0",$C22:$C30,"=PG",F22:F30,"=2")*Capa!$H$14+COUNTIFS($A22:$A30,">0",$C22:$C30,"=PG",F22:F30,"=3")*Capa!$I$14+COUNTIFS($A22:$A30,">0",$C22:$C30,"=PG",F22:F30,"=4")*Capa!$J$14)/(COUNTIFS($A22:$A30,">0",$C22:$C30,"=PG")*100) -> 0 | G22: =(COUNTIFS($A22:$A30,">0",$C22:$C30,"=PG",G22:G30,"=1")*Capa!$G$14+COUNTIFS($A22:$A30,">0",$C22:$C30,"=PG",G22:G30,"=2")*Capa!$H$14+COUNTIFS($A22:$A30,">0",$C22:$C30,"=PG",G22:G30,"=3")*Capa!$I$14+COUNTIFS($A22:$A30,">0",$C22:$C30,"=PG",G22:G30,"=4")*Capa!$J$14)/(COUNTIFS($A22:$A30,">0",$C22:$C30,"=PG")*100) -> 0 | H22: =(COUNTIFS($A22:$A30,">0",$C22:$C30,"=PG",H22:H30,"=1")*Capa!$G$14+COUNTIFS($A22:$A30,">0",$C22:$C30,"=PG",H22:H30,"=2")*Capa!$H$14+COUNTIFS($A22:$A30,">0",$C22:$C30,"=PG",H22:H30,"=3")*Capa!$I$14+COUNTIFS($A22:$A30,">0",$C22:$C30,"=PG",H22:H30,"=4")*Capa!$J$14)/(COUNTIFS($A22:$A30,">0",$C22:$C30,"=PG")*100) -> 0 | I22: =COUNTIFS($A23:$A29,">0",I23:I29,">0") -> 0 | J22: =(COUNTIFS($A22:$A30,">0",$C22:$C30,"=PG",J22:J30,"=1")*Capa!$G$14+COUNTIFS($A22:$A30,">0",$C22:$C30,"=PG",J22:J30,"=2")*Capa!$H$14+COUNTIFS($A22:$A30,">0",$C22:$C30,"=PG",J22:J30,"=3")*Capa!$I$14+COUNTIFS($A22:$A30,">0",$C22:$C30,"=PG",J22:J30,"=4")*Capa!$J$14)/(COUNTIFS($A22:$A30,">0",$C22:$C30,"=PG")*100) -> 0 | K22: =(COUNTIFS($A22:$A30,">0",$C22:$C30,"=PG",K22:K30,"=1")*Capa!$G$14+COUNTIFS($A22:$A30,">0",$C22:$C30,"=PG",K22:K30,"=2")*Capa!$H$14+COUNTIFS($A22:$A30,">0",$C22:$C30,"=PG",K22:K30,"=3")*Capa!$I$14+COUNTIFS($A22:$A30,">0",$C22:$C30,"=PG",K22:K30,"=4")*Capa!$J$14)/(COUNTIFS($A22:$A30,">0",$C22:$C30,"=PG")*100) -> 0 | L22: =(COUNTIFS($A22:$A30,">0",$C22:$C30,"=PG",L22:L30,"=1")*Capa!$G$14+COUNTIFS($A22:$A30,">0",$C22:$C30,"=PG",L22:L30,"=2")*Capa!$H$14+COUNTIFS($A22:$A30,">0",$C22:$C30,"=PG",L22:L30,"=3")*Capa!$I$14+COUNTIFS($A22:$A30,">0",$C22:$C30,"=PG",L22:L30,"=4")*Capa!$J$14)/(COUNTIFS($A22:$A30,">0",$C22:$C30,"=PG")*100) -> 0 | M22: =COUNTIFS($A23:$A29,">0",M23:M29,">0") -> 0
A23: =IF(Capa!$B$6>=B23,1,0) -> 0 | B23: 1 | C23: PG | D23: a) Interação da direção com as partes interessadas | E23: Avaliar o relacionamento em nível estratégico, identificar oportunidades e prioridades, demonstrar comprometimento e gerar credibilidade, sem intermediários, em comunicação direta com dirigentes das partes interessadas priorizadas..
A24: 1 | B24: 2 | C24: PG | D24: b) Monitoramento de cenários pela direção | E24: Liderar avaliações de potenciais mudanças de cenários, internos e externos, e os riscos associados, verificando a adequação do controle de riscos e dos planos para a continuidade do negócio.
A25: =IF(Capa!$B$6>=B25,1,0) -> 1 | B25: 0 | C25: PG | D25: c) Tomada de decisão, considerando as partes impactadas | E25: Decidir, no sistema de liderança apropriado, da alçada do líder ou em colegiado, acerca dos melhores rumos a seguir, à luz dos riscos para as partes impactadas, utilizando informações e experiências, com apoio de inteligência artificial aplicável, e assegurar a comunicação aos atores impactados pelas decisões tomadas, nos diferentes níveis e processos.
A26: =IF(Capa!$B$6>=B26,1,0) -> 0 | B26: 1 | C26: PG | D26: d) Acompanhamento das decisões tomadas pela direção | E26: Garantir que as ações deliberadas sejam comunicadas aos atores impactados pelas decisões tomadas, nos diferentes níveis e processos, e implementadas correta, tempestivamente e verificando sua eficácia.
A27: =IF(Capa!$B$6>=B27,1,0) -> 0 | B27: 3 | C27: PG | D27: e) Comunicação ativa de fatos relevantes às partes interessadas | E27: Manter as partes interessadas a par dos fatos relevantes que as afetem, fortalecendo o relacionamento ético e a confiança, e assegurar canais de acesso efetivos à organização.
A28: =IF(Capa!$B$6>=B28,1,0) -> 0 | B28: 2 | C28: PG | D28: f) Acompanhamento, pela direção, do tratamento de manifestações relevantes de partes interessadas | E28: Assegurar a resposta, tempestiva e com resolubilidade, das manifestações mais importantes das partes interessadas e atuar nas causas raízes do sistema de gestão, de forma integrada, para prevenir recorrência.
A29: =IF(Capa!$B$6>=B29,1,0) -> 1 | B29: 0 | C29: PG | D29: g) Adoção de modelo de gestão compatível com a excelência | E29: Configurar um sistema gerencial que promova os Fundamentos da Excelência, de forma compatível com o modelo de negócio, facilitando o entendimento do sistema pelos atores.
B30: =IF(ISBLANK(C30),"",IF(ISERR(SEARCH(C30&"\","<B>\<1>\<2>\<3>\")),IF(AND(NOT(ISBLANK(#REF!)),#REF!<=3),#REF!,""), IF(SEARCH(C30&"\","<B>\<1>\<2>\<3>\")=1,0,IF(SEARCH(C30&"\","<B>\<1>\<2>\<3>\")=5,1,IF(SEARCH(C30&"\","<B>\<1>\<2>\<3>\")=9,2,IF(SEARCH(C30&"\","<B>\<1>\<2>\<3>\")=13,3,""))))))

Sheet 2
D1: =Capa!A1 -> MEGplan MEGIA 2026 | F1: Fatores de avaliação
B2: Nv | C2: Cód | F2: Enx | G2: Proa | H2: Digit | I2: IA? | J2: Abrg | K2: Efet | L2: Inov | M2: Orig? | N2: Bônus | O2: Comentário | P2: + / - | Q2: Prática
D3: =IF(SUM(A4:A28)<=0,0,COUNTIFS(A4:A28,"=1",M4:M28,"<>")/SUM(A4:A28)) -> 0 | F3: =MIN(IF(OR(Capa!$B$6=0,Capa!$B$6=1),AVERAGE(F6,F13,F21),(F6*'Quadro Geral'!D9+F13*'Quadro Geral'!D10+F21*'Quadro Geral'!D11)/'Quadro Geral'!D8)+N3,1) -> 0 | N3: =IF(OR(AND(Capa!$B$6=2,I4>0),AND(Capa!$B$6=3,I4>1)),0.05,0)+IF(AND(Capa!$B$6=3,I4=1),0.02,0)+IF(OR(AND(Capa!$B$6=2,M4>0),AND(Capa!$B$6=3,M4>1)),0.05,0)+IF(AND(Capa!$B$6=3,M4=1),0.02,0) -> 0
B4: =IF(ISBLANK(C4),"",IF(ISERR(SEARCH(C4&"\","<B>\<1>\<2>\<3>\")),IF(AND(NOT(ISBLANK(B2)),B2<=3),B2,""), IF(SEARCH(C4&"\","<B>\<1>\<2>\<3>\")=1,0,IF(SEARCH(C4&"\","<B>\<1>\<2>\<3>\")=5,1,IF(SEARCH(C4&"\","<B>\<1>\<2>\<3>\")=9,2,IF(SEARCH(C4&"\","<B>\<1>\<2>\<3>\")=13,3,"")))))) | D4: CRITÉRIO 2 - ESTRATÉGIAS | E4: Este Critério avalia os processos gerenciais relativos à formulação das estratégias, desdobramento das estratégias e análise do desempenho da organização. | F4: =AVERAGE(F7,F14,F22) -> 0 | G4: =AVERAGE(G7,G14,G21) -> 0 | H4: =AVERAGE(H7,H14,H21) -> 0 | I4: =I7+I14+I22 -> 0 | J4: =AVERAGE(J7,J14,J21) -> 0 | K4: =AVERAGE(K7,K14,K21) -> 0 | L4: =AVERAGE(L7,L14,L21) -> 0 | M4: =M7+M14+M22 -> 0
B5: =IF(ISBLANK(C5),"",IF(ISERR(SEARCH(C5&"\","<B>\<1>\<2>\<3>\")),IF(AND(NOT(ISBLANK(#REF!)),#REF!<=3),#REF!,""), IF(SEARCH(C5&"\","<B>\<1>\<2>\<3>\")=1,0,IF(SEARCH(C5&"\","<B>\<1>\<2>\<3>\")=5,1,IF(SEARCH(C5&"\","<B>\<1>\<2>\<3>\")=9,2,IF(SEARCH(C5&"\","<B>\<1>\<2>\<3>\")=13,3,""))))))
B6: =IF(ISBLANK(C6),"",IF(ISERR(SEARCH(C6&"\","<B>\<1>\<2>\<3>\")),IF(AND(NOT(ISBLANK(B5)),B5<=3),B5,""), IF(SEARCH(C6&"\","<B>\<1>\<2>\<3>\")=1,0,IF(SEARCH(C6&"\","<B>\<1>\<2>\<3>\")=5,1,IF(SEARCH(C6&"\","<B>\<1>\<2>\<3>\")=9,2,IF(SEARCH(C6&"\","<B>\<1>\<2>\<3>\")=13,3,"")))))) | D6: ='Quadro Geral'!B9 -> 2.1 Formulação de estratégias | F6: =(F7*20+G7*10+H7*10+J7*30+K7*15+L7*15)/100 -> 0
B7: =IF(ISBLANK(C7),"",IF(ISERR(SEARCH(C7&"\","<B>\<1>\<2>\<3>\")),IF(AND(NOT(ISBLANK(B6)),B6<=3),B6,""), IF(SEARCH(C7&"\","<B>\<1>\<2>\<3>\")=1,0,IF(SEARCH(C7&"\","<B>\<1>\<2>\<3>\")=5,1,IF(SEARCH(C7&"\","<B>\<1>\<2>\<3>\")=9,2,IF(SEARCH(C7&"\","<B>\<1>\<2>\<3>\")=13,3,"")))))) | D7: =IF(SUM(A9:A12)<=0,0,COUNTIF(M9:M12,"<>")/SUM(A9:A12)) -> 0 | E7: Finalidade | F7: =(COUNTIFS($A7:$A12,">0",$C7:$C12,"=PG",F7:F12,"=1")*Capa!$G$14+COUNTIFS($A7:$A12,">0",$C7:$C12,"=PG",F7:F12,"=2")*Capa!$H$14+COUNTIFS($A7:$A12,">0",$C7:$C12,"=PG",F7:F12,"=3")*Capa!$I$14+COUNTIFS($A7:$A12,">0",$C7:$C12,"=PG",F7:F12,"=4")*Capa!$J$14)/(COUNTIFS($A7:$A12,">0",$C7:$C12,"=PG")*100) -> 0 | G7: =(COUNTIFS($A7:$A12,">0",$C7:$C12,"=PG",G7:G12,"=1")*Capa!$G$14+COUNTIFS($A7:$A12,">0",$C7:$C12,"=PG",G7:G12,"=2")*Capa!$H$14+COUNTIFS($A7:$A12,">0",$C7:$C12,"=PG",G7:G12,"=3")*Capa!$I$14+COUNTIFS($A7:$A12,">0",$C7:$C12,"=PG",G7:G12,"=4")*Capa!$J$14)/(COUNTIFS($A7:$A12,">0",$C7:$C12,"=PG")*100) -> 0 | H7: =(COUNTIFS($A7:$A12,">0",$C7:$C12,"=PG",H7:H12,"=1")*Capa!$G$14+COUNTIFS($A7:$A12,">0",$C7:$C12,"=PG",H7:H12,"=2")*Capa!$H$14+COUNTIFS($A7:$A12,">0",$C7:$C12,"=PG",H7:H12,"=3")*Capa!$I$14+COUNTIFS($A7:$A12,">0",$C7:$C12,"=PG",H7:H12,"=4")*Capa!$J$14)/(COUNTIFS($A7:$A12,">0",$C7:$C12,"=PG")*100) -> 0 | I7: =COUNTIFS($A9:$A11,">0",I9:I11,">0") -> 0 | J7: =(COUNTIFS($A7:$A12,">0",$C7:$C12,"=PG",J7:J12,"=1")*Capa!$G$14+COUNTIFS($A7:$A12,">0",$C7:$C12,"=PG",J7:J12,"=2")*Capa!$H$14+COUNTIFS($A7:$A12,">0",$C7:$C12,"=PG",J7:J12,"=3")*Capa!$I$14+COUNTIFS($A7:$A12,">0",$C7:$C12,"=PG",J7:J12,"=4")*Capa!$J$14)/(COUNTIFS($A7:$A12,">0",$C7:$C12,"=PG")*100) -> 0 | K7: =(COUNTIFS($A7:$A12,">0",$C7:$C12,"=PG",K7:K12,"=1")*Capa!$G$14+COUNTIFS($A7:$A12,">0",$C7:$C12,"=PG",K7:K12,"=2")*Capa!$H$14+COUNTIFS($A7:$A12,">0",$C7:$C12,"=PG",K7:K12,"=3")*Capa!$I$14+COUNTIFS($A7:$A12,">0",$C7:$C12,"=PG",K7:K12,"=4")*Capa!$J$14)/(COUNTIFS($A7:$A12,">0",$C7:$C12,"=PG")*100) -> 0 | L7: =(COUNTIFS($A7:$A12,">0",$C7:$C12,"=PG",L7:L12,"=1")*Capa!$G$14+COUNTIFS($A7:$A12,">0",$C7:$C12,"=PG",L7:L12,"=2")*Capa!$H$14+COUNTIFS($A7:$A12,">0",$C7:$C12,"=PG",L7:L12,"=3")*Capa!$I$14+COUNTIFS($A7:$A12,">0",$C7:$C12,"=PG",L7:L12,"=4")*Capa!$J$14)/(COUNTIFS($A7:$A12,">0",$C7:$C12,"=PG")*100) -> 0 | M7: =COUNTIFS($A9:$A10,">0",M9:M10,">0") -> 0
A8: =IF(Capa!$B$6>=B8,1,0) -> 1 | B8: 0 | C8: PG | D8: a) Definição da esfera de influência e objetivos | E8: Inventariar e conhecer as partes interessadas e redes de pessoas ou organizações que são influenciadas pela organização e que a influenciam, identificando os anseios e interações mútuas e sua importância relativa (pesos), para as partes e para o desenvolvimento sustentável, e estabelecer o rumos esperados pelos proprietários, mantenedores ou instituidores, associados à visão e/ou missão crítica ou objeto social da organização.
A9: =IF(Capa!$B$6>=B9,1,0) -> 0 | B9: 1 | C9: PG | D9: b) Mapeamento de adversidades e oportunidades e formas de tratamento | E9: Identificar e a avaliar continuamente os possíveis impactos das adversidades e oportunidades, atuais e emergentes, provenientes da análise dos ambientes interno e externo, para o alcance dos objetivos, e estabelecer estratégias potenciais ágeis para tratar esses aspectos.
A10: =IF(Capa!$B$6>=B10,1,0) -> 1 | B10: 0 | C10: PG | D10: c) Atualização das estratégias, seus indicadores e metas de curto e longo prazos | E10: Rever e decidir13, considerando as mudanças de cenários, entre as estratégias potenciais, aquelas a serem adotadas para maximizar o retorno frente aos objetivos, definindo indicadores14 e metas para avaliar o progresso das estratégias escolhidas.
A11: =IF(Capa!$B$6>=B11,1,0) -> 0 | B11: 3 | C11: PG | D11: d) Desenvolvimento das competências essenciais para o êxito das estratégias | E11: Identificar e adquirir conhecimentos, habilidades e atitudes essenciais para implementar e sustentar as estratégias adotadas.
B12: =IF(ISBLANK(C12),"",IF(ISERR(SEARCH(C12&"\","<B>\<1>\<2>\<3>\")),IF(AND(NOT(ISBLANK(#REF!)),#REF!<=3),#REF!,""), IF(SEARCH(C12&"\","<B>\<1>\<2>\<3>\")=1,0,IF(SEARCH(C12&"\","<B>\<1>\<2>\<3>\")=5,1,IF(SEARCH(C12&"\","<B>\<1>\<2>\<3>\")=9,2,IF(SEARCH(C12&"\","<B>\<1>\<2>\<3>\")=13,3,""))))))
B13: =IF(ISBLANK(C13),"",IF(ISERR(SEARCH(C13&"\","<B>\<1>\<2>\<3>\")),IF(AND(NOT(ISBLANK(B12)),B12<=3),B12,""), IF(SEARCH(C13&"\","<B>\<1>\<2>\<3>\")=1,0,IF(SEARCH(C13&"\","<B>\<1>\<2>\<3>\")=5,1,IF(SEARCH(C13&"\","<B>\<1>\<2>\<3>\")=9,2,IF(SEARCH(C13&"\","<B>\<1>\<2>\<3>\")=13,3,"")))))) | D13: ='Quadro Geral'!B10 -> 2.2 Desdobramento de estratégias | F13: =(F14*20+G14*10+H14*10+J14*30+K14*15+L14*15)/100 -> 0
B14: =IF(ISBLANK(C14),"",IF(ISERR(SEARCH(C14&"\","<B>\<1>\<2>\<3>\")),IF(AND(NOT(ISBLANK(B13)),B13<=3),B13,""), IF(SEARCH(C14&"\","<B>\<1>\<2>\<3>\")=1,0,IF(SEARCH(C14&"\","<B>\<1>\<2>\<3>\")=5,1,IF(SEARCH(C14&"\","<B>\<1>\<2>\<3>\")=9,2,IF(SEARCH(C14&"\","<B>\<1>\<2>\<3>\")=13,3,"")))))) | D14: =IF(SUM(A15:A20)<=0,0,COUNTIF(M15:M20,"<>")/SUM(A15:A20)) -> 0 | E14: Finalidade | F14: =(COUNTIFS($A14:$A20,">0",$C14:$C20,"=PG",F14:F20,"=1")*Capa!$G$14+COUNTIFS($A14:$A20,">0",$C14:$C20,"=PG",F14:F20,"=2")*Capa!$H$14+COUNTIFS($A14:$A20,">0",$C14:$C20,"=PG",F14:F20,"=3")*Capa!$I$14+COUNTIFS($A14:$A20,">0",$C14:$C20,"=PG",F14:F20,"=4")*Capa!$J$14)/(COUNTIFS($A14:$A20,">0",$C14:$C20,"=PG")*100) -> 0 | G14: =(COUNTIFS($A14:$A20,">0",$C14:$C20,"=PG",G14:G20,"=1")*Capa!$G$14+COUNTIFS($A14:$A20,">0",$C14:$C20,"=PG",G14:G20,"=2")*Capa!$H$14+COUNTIFS($A14:$A20,">0",$C14:$C20,"=PG",G14:G20,"=3")*Capa!$I$14+COUNTIFS($A14:$A20,">0",$C14:$C20,"=PG",G14:G20,"=4")*Capa!$J$14)/(COUNTIFS($A14:$A20,">0",$C14:$C20,"=PG")*100) -> 0 | H14: =(COUNTIFS($A14:$A20,">0",$C14:$C20,"=PG",H14:H20,"=1")*Capa!$G$14+COUNTIFS($A14:$A20,">0",$C14:$C20,"=PG",H14:H20,"=2")*Capa!$H$14+COUNTIFS($A14:$A20,">0",$C14:$C20,"=PG",H14:H20,"=3")*Capa!$I$14+COUNTIFS($A14:$A20,">0",$C14:$C20,"=PG",H14:H20,"=4")*Capa!$J$14)/(COUNTIFS($A14:$A20,">0",$C14:$C20,"=PG")*100) -> 0 | I14: =COUNTIFS($A15:$A19,">0",I15:I19,">0") -> 0 | J14: =(COUNTIFS($A14:$A20,">0",$C14:$C20,"=PG",J14:J20,"=1")*Capa!$G$14+COUNTIFS($A14:$A20,">0",$C14:$C20,"=PG",J14:J20,"=2")*Capa!$H$14+COUNTIFS($A14:$A20,">0",$C14:$C20,"=PG",J14:J20,"=3")*Capa!$I$14+COUNTIFS($A14:$A20,">0",$C14:$C20,"=PG",J14:J20,"=4")*Capa!$J$14)/(COUNTIFS($A14:$A20,">0",$C14:$C20,"=PG")*100) -> 0 | K14: =(COUNTIFS($A14:$A20,">0",$C14:$C20,"=PG",K14:K20,"=1")*Capa!$G$14+COUNTIFS($A14:$A20,">0",$C14:$C20,"=PG",K14:K20,"=2")*Capa!$H$14+COUNTIFS($A14:$A20,">0",$C14:$C20,"=PG",K14:K20,"=3")*Capa!$I$14+COUNTIFS($A14:$A20,">0",$C14:$C20,"=PG",K14:K20,"=4")*Capa!$J$14)/(COUNTIFS($A14:$A20,">0",$C14:$C20,"=PG")*100) -> 0 | L14: =(COUNTIFS($A14:$A20,">0",$C14:$C20,"=PG",L14:L20,"=1")*Capa!$G$14+COUNTIFS($A14:$A20,">0",$C14:$C20,"=PG",L14:L20,"=2")*Capa!$H$14+COUNTIFS($A14:$A20,">0",$C14:$C20,"=PG",L14:L20,"=3")*Capa!$I$14+COUNTIFS($A14:$A20,">0",$C14:$C20,"=PG",L14:L20,"=4")*Capa!$J$14)/(COUNTIFS($A14:$A20,">0",$C14:$C20,"=PG")*100) -> 0 | M14: =COUNTIFS($A15:$A19,">0",M15:M19,">0") -> 0
A15: =IF(Capa!$B$6>=B15,1,0) -> 0 | B15: 3 | C15: PG | D15: a) Definição dos processos e responsáveis | E15: Reavaliar o agrupamento de atividades operacionais e gerenciais em processos para atender as estratégias formuladas e metas almejadas, incluindo decorrentes de possíveis mudanças no modelo de negócio, e estabelecer responsabilidades pelo seu deempenho.
A16: =IF(Capa!$B$6>=B16,1,0) -> 0 | B16: 2 | C16: PG | D16: b) Tratamento das mudanças necessárias para o êxito das estratégias | E16: Identificar e encontrar formas de superar as dificuldades, incluindo barreiras culturais, decorrentes das estratégias formuladas, desenvolvendo as competências necessárias.
A17: =IF(Capa!$B$6>=B17,1,0) -> 1 | B17: 0 | C17: PG | D17: c) Desdobramento das metas para os processos | E17: Compatibilizar os indicadores e metas para os processos primários, de suporte e de gestão, em todos os níveis da estrutura, com os indicadores e metas estratégicas, iniciando o planejamento dos processos (Critério 7)
A18: =IF(Capa!$B$6>=B18,1,0) -> 0 | B18: 1 | C18: PG | D18: d) Alinhamento de metas e planos entre os processos | E18: Assegurar a coerência entre as metas e a harmonia de planos estabelecidos para os diferentes processos.
A19: =IF(Capa!$B$6>=B19,1,0) -> 0 | B19: 2 | C19: PG | D19: e) Monitoramento integrado do andamento dos planos estratégicos e seus recursos | E19: Verificar se os planos estão sendo implementados tempestiva e sincronizadamente e se os recursos estão disponíveis para isso.
B20: =IF(ISBLANK(C20),"",IF(ISERR(SEARCH(C20&"\","<B>\<1>\<2>\<3>\")),IF(AND(NOT(ISBLANK(#REF!)),#REF!<=3),#REF!,""), IF(SEARCH(C20&"\","<B>\<1>\<2>\<3>\")=1,0,IF(SEARCH(C20&"\","<B>\<1>\<2>\<3>\")=5,1,IF(SEARCH(C20&"\","<B>\<1>\<2>\<3>\")=9,2,IF(SEARCH(C20&"\","<B>\<1>\<2>\<3>\")=13,3,""))))))
B21: =IF(ISBLANK(C21),"",IF(ISERR(SEARCH(C21&"\","<B>\<1>\<2>\<3>\")),IF(AND(NOT(ISBLANK(B20)),B20<=3),B20,""), IF(SEARCH(C21&"\","<B>\<1>\<2>\<3>\")=1,0,IF(SEARCH(C21&"\","<B>\<1>\<2>\<3>\")=5,1,IF(SEARCH(C21&"\","<B>\<1>\<2>\<3>\")=9,2,IF(SEARCH(C21&"\","<B>\<1>\<2>\<3>\")=13,3,"")))))) | D21: ='Quadro Geral'!B11 -> 2.3 Análise de desempenho da organização | F21: =(F22*20+G22*10+H22*10+J22*30+K22*15+L22*15)/100 -> 0
B22: =IF(ISBLANK(C22),"",IF(ISERR(SEARCH(C22&"\","<B>\<1>\<2>\<3>\")),IF(AND(NOT(ISBLANK(B21)),B21<=3),B21,""), IF(SEARCH(C22&"\","<B>\<1>\<2>\<3>\")=1,0,IF(SEARCH(C22&"\","<B>\<1>\<2>\<3>\")=5,1,IF(SEARCH(C22&"\","<B>\<1>\<2>\<3>\")=9,2,IF(SEARCH(C22&"\","<B>\<1>\<2>\<3>\")=13,3,"")))))) | D22: =IF(SUM(A23:A28)<=0,0,COUNTIF(M23:M28,"<>")/SUM(A23:A28)) -> 0 | E22: Finalidade | F22: =(COUNTIFS($A22:$A28,">0",$C22:$C28,"=PG",F22:F28,"=1")*Capa!$G$14+COUNTIFS($A22:$A28,">0",$C22:$C28,"=PG",F22:F28,"=2")*Capa!$H$14+COUNTIFS($A22:$A28,">0",$C22:$C28,"=PG",F22:F28,"=3")*Capa!$I$14+COUNTIFS($A22:$A28,">0",$C22:$C28,"=PG",F22:F28,"=4")*Capa!$J$14)/(COUNTIFS($A22:$A28,">0",$C22:$C28,"=PG")*100) -> 0 | G22: =(COUNTIFS($A22:$A28,">0",$C22:$C28,"=PG",G22:G28,"=1")*Capa!$G$14+COUNTIFS($A22:$A28,">0",$C22:$C28,"=PG",G22:G28,"=2")*Capa!$H$14+COUNTIFS($A22:$A28,">0",$C22:$C28,"=PG",G22:G28,"=3")*Capa!$I$14+COUNTIFS($A22:$A28,">0",$C22:$C28,"=PG",G22:G28,"=4")*Capa!$J$14)/(COUNTIFS($A22:$A28,">0",$C22:$C28,"=PG")*100) -> 0 | H22: =(COUNTIFS($A22:$A28,">0",$C22:$C28,"=PG",H22:H28,"=1")*Capa!$G$14+COUNTIFS($A22:$A28,">0",$C22:$C28,"=PG",H22:H28,"=2")*Capa!$H$14+COUNTIFS($A22:$A28,">0",$C22:$C28,"=PG",H22:H28,"=3")*Capa!$I$14+COUNTIFS($A22:$A28,">0",$C22:$C28,"=PG",H22:H28,"=4")*Capa!$J$14)/(COUNTIFS($A22:$A28,">0",$C22:$C28,"=PG")*100) -> 0 | I22: =COUNTIFS($A23:$A27,">0",I23:I27,">0") -> 0 | J22: =(COUNTIFS($A22:$A28,">0",$C22:$C28,"=PG",J22:J28,"=1")*Capa!$G$14+COUNTIFS($A22:$A28,">0",$C22:$C28,"=PG",J22:J28,"=2")*Capa!$H$14+COUNTIFS($A22:$A28,">0",$C22:$C28,"=PG",J22:J28,"=3")*Capa!$I$14+COUNTIFS($A22:$A28,">0",$C22:$C28,"=PG",J22:J28,"=4")*Capa!$J$14)/(COUNTIFS($A22:$A28,">0",$C22:$C28,"=PG")*100) -> 0 | K22: =(COUNTIFS($A22:$A28,">0",$C22:$C28,"=PG",K22:K28,"=1")*Capa!$G$14+COUNTIFS($A22:$A28,">0",$C22:$C28,"=PG",K22:K28,"=2")*Capa!$H$14+COUNTIFS($A22:$A28,">0",$C22:$C28,"=PG",K22:K28,"=3")*Capa!$I$14+COUNTIFS($A22:$A28,">0",$C22:$C28,"=PG",K22:K28,"=4")*Capa!$J$14)/(COUNTIFS($A22:$A28,">0",$C22:$C28,"=PG")*100) -> 0 | L22: =(COUNTIFS($A22:$A28,">0",$C22:$C28,"=PG",L22:L28,"=1")*Capa!$G$14+COUNTIFS($A22:$A28,">0",$C22:$C28,"=PG",L22:L28,"=2")*Capa!$H$14+COUNTIFS($A22:$A28,">0",$C22:$C28,"=PG",L22:L28,"=3")*Capa!$I$14+COUNTIFS($A22:$A28,">0",$C22:$C28,"=PG",L22:L28,"=4")*Capa!$J$14)/(COUNTIFS($A22:$A28,">0",$C22:$C28,"=PG")*100) -> 0 | M22: =COUNTIFS($A23:$A27,">0",M23:M27,">0") -> 0
A23: =IF(Capa!$B$6>=B23,1,0) -> 0 | B23: 2 | C23: PG | D23: a) Levantamento de informações sobre o cenário atual e suas tendências. | E23: Disponibilizar um conjunto de informações essenciais para compreender o cenário atual interno e externo, bem como suas tendências, para contextualizar a avaliação do desempenho organizacional.
A24: =IF(Capa!$B$6>=B24,1,0) -> 1 | B24: 0 | C24: PG | D24: b) Definição das informações comparativas pertinentes para a tomada de decisão | E24: Definir quais são os referenciais pertinentes e suas fontes que permitem avaliar a competitividade dos resultados estratégicos das diferentes perspectivas do Critério 8 - Resultados.
A25: =IF(Capa!$B$6>=B25,1,0) -> 1 | B25: 0 | C25: PG | D25: c) Análise do desempenho organizacional, considerando requisitos de partes interessadas, referenciais comparativos pertinentes e variáveis do ambiente externo | E25: Verificar o alcance de metas, competitividade e sustentabilidade dos resultados mensurados e as possíveis causas de desvios e variações, considerando os cenários internos e externos.
A26: =IF(Capa!$B$6>=B26,1,0) -> 0 | B26: 1 | C26: PG | D26: d) Revisão das estratégias e metas em tempo adequado às mudanças do contexto | E26: Ajustar os planos estratégicos e as metas às mudanças de cenários internos e externos, quando necessário.
A27: =IF(Capa!$B$6>=B27,1,0) -> 0 | B27: 3 | C27: PG | D27: e) Acompanhamento das decisões tomadas para alcance do desempenho planejado | E27: Verificar se as decisões decorrentes da análise do desempenho foram ou estão sendo providenciadas.
B28: =IF(ISBLANK(C28),"",IF(ISERR(SEARCH(C28&"\","<B>\<1>\<2>\<3>\")),IF(AND(NOT(ISBLANK(#REF!)),#REF!<=3),#REF!,""), IF(SEARCH(C28&"\","<B>\<1>\<2>\<3>\")=1,0,IF(SEARCH(C28&"\","<B>\<1>\<2>\<3>\")=5,1,IF(SEARCH(C28&"\","<B>\<1>\<2>\<3>\")=9,2,IF(SEARCH(C28&"\","<B>\<1>\<2>\<3>\")=13,3,""))))))

Sheet 3
D1: =Capa!A1 -> MEGplan MEGIA 2026 | F1: Fatores de avaliação
B2: Nv | C2: Cód | F2: Enx | G2: Proa | H2: Digit | I2: IA? | J2: Abrg | K2: Efet | L2: Inov | M2: Orig? | N2: Bônus | O2: Comentário | P2: + / - | Q2: Prática
D3: =IF(SUM(A4:A22)<=0,0,COUNTIFS(A4:A22,"=1",M4:M22,"<>")/SUM(A4:A22)) -> 0 | F3: =MIN(IF(OR(Capa!$B$6=0,Capa!$B$6=1),AVERAGE(F6,F16),(F6*'Quadro Geral'!D13+F16*'Quadro Geral'!D14)/'Quadro Geral'!D12)+N3,1) -> 0 | N3: =IF(OR(AND(Capa!$B$6=2,I4>0),AND(Capa!$B$6=3,I4>1)),0.05,0)+IF(AND(Capa!$B$6=3,I4=1),0.02,0)+IF(OR(AND(Capa!$B$6=2,M4>0),AND(Capa!$B$6=3,M4>1)),0.05,0)+IF(AND(Capa!$B$6=3,M4=1),0.02,0) -> 0
B4: =IF(ISBLANK(C4),"",IF(ISERR(SEARCH(C4&"\","<B>\<1>\<2>\<3>\")),IF(AND(NOT(ISBLANK(B2)),B2<=3),B2,""), IF(SEARCH(C4&"\","<B>\<1>\<2>\<3>\")=1,0,IF(SEARCH(C4&"\","<B>\<1>\<2>\<3>\")=5,1,IF(SEARCH(C4&"\","<B>\<1>\<2>\<3>\")=9,2,IF(SEARCH(C4&"\","<B>\<1>\<2>\<3>\")=13,3,"")))))) | D4: CRITÉRIO 3 - CLIENTES | E4: Este Critério avalia os processos gerenciais relativos ao mercado e atuação sustentável e experiência sustentável. | F4: =AVERAGE(F7,F17) -> 0 | G4: =AVERAGE(G7,G17) -> 0 | H4: =AVERAGE(H7,H17) -> 0 | I4: =I7+I17 -> 0 | J4: =AVERAGE(J7,J17) -> 0 | K4: =AVERAGE(K7,K17) -> 0 | L4: =AVERAGE(L7,L17) -> 0 | M4: =M7+M17 -> 0
B5: =IF(ISBLANK(C5),"",IF(ISERR(SEARCH(C5&"\","<B>\<1>\<2>\<3>\")),IF(AND(NOT(ISBLANK(#REF!)),#REF!<=3),#REF!,""), IF(SEARCH(C5&"\","<B>\<1>\<2>\<3>\")=1,0,IF(SEARCH(C5&"\","<B>\<1>\<2>\<3>\")=5,1,IF(SEARCH(C5&"\","<B>\<1>\<2>\<3>\")=9,2,IF(SEARCH(C5&"\","<B>\<1>\<2>\<3>\")=13,3,""))))))
B6: =IF(ISBLANK(C6),"",IF(ISERR(SEARCH(C6&"\","<B>\<1>\<2>\<3>\")),IF(AND(NOT(ISBLANK(B5)),B5<=3),B5,""), IF(SEARCH(C6&"\","<B>\<1>\<2>\<3>\")=1,0,IF(SEARCH(C6&"\","<B>\<1>\<2>\<3>\")=5,1,IF(SEARCH(C6&"\","<B>\<1>\<2>\<3>\")=9,2,IF(SEARCH(C6&"\","<B>\<1>\<2>\<3>\")=13,3,"")))))) | D6: 3.1 Mercado e atuação sustentável | F6: =(F7*20+G7*10+H7*10+J7*30+K7*15+L7*15)/100 -> 0
B7: =IF(ISBLANK(C7),"",IF(ISERR(SEARCH(C7&"\","<B>\<1>\<2>\<3>\")),IF(AND(NOT(ISBLANK(B6)),B6<=3),B6,""), IF(SEARCH(C7&"\","<B>\<1>\<2>\<3>\")=1,0,IF(SEARCH(C7&"\","<B>\<1>\<2>\<3>\")=5,1,IF(SEARCH(C7&"\","<B>\<1>\<2>\<3>\")=9,2,IF(SEARCH(C7&"\","<B>\<1>\<2>\<3>\")=13,3,"")))))) | D7: =IF(SUM(A8:A15)<=0,0,COUNTIF(M8:M15,"<>")/SUM(A8:A15)) -> 0 | E7: Finalidade | F7: =(COUNTIFS($A7:$A15,">0",$C7:$C15,"=PG",F7:F15,"=1")*Capa!$G$14+COUNTIFS($A7:$A15,">0",$C7:$C15,"=PG",F7:F15,"=2")*Capa!$H$14+COUNTIFS($A7:$A15,">0",$C7:$C15,"=PG",F7:F15,"=3")*Capa!$I$14+COUNTIFS($A7:$A15,">0",$C7:$C15,"=PG",F7:F15,"=4")*Capa!$J$14)/(COUNTIFS($A7:$A15,">0",$C7:$C15,"=PG")*100) -> 0 | G7: =(COUNTIFS($A7:$A15,">0",$C7:$C15,"=PG",G7:G15,"=1")*Capa!$G$14+COUNTIFS($A7:$A15,">0",$C7:$C15,"=PG",G7:G15,"=2")*Capa!$H$14+COUNTIFS($A7:$A15,">0",$C7:$C15,"=PG",G7:G15,"=3")*Capa!$I$14+COUNTIFS($A7:$A15,">0",$C7:$C15,"=PG",G7:G15,"=4")*Capa!$J$14)/(COUNTIFS($A7:$A15,">0",$C7:$C15,"=PG")*100) -> 0 | H7: =(COUNTIFS($A7:$A15,">0",$C7:$C15,"=PG",H7:H15,"=1")*Capa!$G$14+COUNTIFS($A7:$A15,">0",$C7:$C15,"=PG",H7:H15,"=2")*Capa!$H$14+COUNTIFS($A7:$A15,">0",$C7:$C15,"=PG",H7:H15,"=3")*Capa!$I$14+COUNTIFS($A7:$A15,">0",$C7:$C15,"=PG",H7:H15,"=4")*Capa!$J$14)/(COUNTIFS($A7:$A15,">0",$C7:$C15,"=PG")*100) -> 0 | I7: =COUNTIFS($A8:$A14,">0",I8:I14,">0") -> 0 | J7: =(COUNTIFS($A7:$A15,">0",$C7:$C15,"=PG",J7:J15,"=1")*Capa!$G$14+COUNTIFS($A7:$A15,">0",$C7:$C15,"=PG",J7:J15,"=2")*Capa!$H$14+COUNTIFS($A7:$A15,">0",$C7:$C15,"=PG",J7:J15,"=3")*Capa!$I$14+COUNTIFS($A7:$A15,">0",$C7:$C15,"=PG",J7:J15,"=4")*Capa!$J$14)/(COUNTIFS($A7:$A15,">0",$C7:$C15,"=PG")*100) -> 0 | K7: =(COUNTIFS($A7:$A15,">0",$C7:$C15,"=PG",K7:K15,"=1")*Capa!$G$14+COUNTIFS($A7:$A15,">0",$C7:$C15,"=PG",K7:K15,"=2")*Capa!$H$14+COUNTIFS($A7:$A15,">0",$C7:$C15,"=PG",K7:K15,"=3")*Capa!$I$14+COUNTIFS($A7:$A15,">0",$C7:$C15,"=PG",K7:K15,"=4")*Capa!$J$14)/(COUNTIFS($A7:$A15,">0",$C7:$C15,"=PG")*100) -> 0 | L7: =(COUNTIFS($A7:$A15,">0",$C7:$C15,"=PG",L7:L15,"=1")*Capa!$G$14+COUNTIFS($A7:$A15,">0",$C7:$C15,"=PG",L7:L15,"=2")*Capa!$H$14+COUNTIFS($A7:$A15,">0",$C7:$C15,"=PG",L7:L15,"=3")*Capa!$I$14+COUNTIFS($A7:$A15,">0",$C7:$C15,"=PG",L7:L15,"=4")*Capa!$J$14)/(COUNTIFS($A7:$A15,">0",$C7:$C15,"=PG")*100) -> 0 | M7: =COUNTIFS($A8:$A14,">0",M8:M14,">0") -> 0
A8: =IF(Capa!$B$6>=B8,1,0) -> 0 | B8: 2 | C8: PG | D8: a) Estudo do mercado | E8: Compreender as principais variáveis que influenciam e que influenciarão na decisão de clientes potenciais de usufruir, consumir ou adquirir produtos da organização, da concorrência ou de tipo similar, bem como viabilizar a segmentação do mercado e conhecer as vantagens próprias e dos competidores nesses nichos.
A9: =IF(Capa!$B$6>=B9,1,0) -> 0 | B9: 2 | C9: PG | D9: b) Segmentação do mercado | E9: Particionar os mercados de atuação com base em características similares que permitirão uma melhor adequação e oferta de soluções aos clientes, aumentando a eficiência do plano comercial, bem como o acompanhamento da fatia de participação nos segmentos.
A10: =IF(Capa!$B$6>=B10,1,0) -> 0 | B10: 1 | C10: PG | D10: c) Definição dos clientes-alvo | E10: Dar prioridade ao esforço de cocriação e colocação de produtos, dirigido a nichos específicos dos segmentos, o que permitirá uma adequação e oferta mais precisas de produtos e soluções.
A11: =IF(Capa!$B$6>=B11,1,0) -> 1 | B11: 0 | C11: PG | D11: d) Conhecimento sobre os clientes-alvo | E11: Mapear as principais fases da jornada e as experiências e as dificuldades que podem restringir, inclusive pela condição social, e levam à escolha do produto da organização, pelos clientes-alvo e eventuais intermediários, bem como identificar as suas principais necessidades, expectativas e predisposições, em constante evolução, que influenciam na sua preferência, inclusive grau de engajamento na causa do desenvolvimento sustentável.
A12: =IF(Capa!$B$6>=B12,1,0) -> 0 | B12: 2 | C12: PG | D12: e) Planejamento de experiências sustentáveis e resilientes | E12: Especificar produtos mais atrativos às necessidades, expectativas e predisposições dos clientes-alvo e, ao mesmo tempo, que assegurem a continuidade de entregas em cenários de ruptura potenciais e que contribuam para a causa do desenvolvimento sustentável.
A13: =IF(Capa!$B$6>=B13,1,0) -> 1 | B13: 0 | C13: PG | D13: f) Divulgação de produtos sustentáveis | E13: Despertar o interesse de clientes-alvo por produtos da organização que os atendam e que apoiem a causa do desenvolvimento sustentável associada, buscando assegurar a clareza, a coerência e a autenticidade do conteúdo das informações divulgadas.
A14: =IF(Capa!$B$6>=B14,1,0) -> 0 | B14: 3 | C14: PG | D14: g) Desenvolvimento de marcas comprometidas com a sustentabilidade | E14: Criar credibilidade, admiração, confiança, preferência e imagem positiva na organização e seus produtos, especialmente nos mercados-alvo; proteger as marcas contra exposição incompatível com os valores e princípios, com a ética e a integridade da informação e avaliar a reputação ou imagem pretendida (posicionamento competitivo) para a organização, inclusive relativa ao desenvolvimento sustentável.
B15: =IF(ISBLANK(C15),"",IF(ISERR(SEARCH(C15&"\","<B>\<1>\<2>\<3>\")),IF(AND(NOT(ISBLANK(#REF!)),#REF!<=3),#REF!,""), IF(SEARCH(C15&"\","<B>\<1>\<2>\<3>\")=1,0,IF(SEARCH(C15&"\","<B>\<1>\<2>\<3>\")=5,1,IF(SEARCH(C15&"\","<B>\<1>\<2>\<3>\")=9,2,IF(SEARCH(C15&"\","<B>\<1>\<2>\<3>\")=13,3,""))))))
B16: =IF(ISBLANK(C16),"",IF(ISERR(SEARCH(C16&"\","<B>\<1>\<2>\<3>\")),IF(AND(NOT(ISBLANK(B15)),B15<=3),B15,""), IF(SEARCH(C16&"\","<B>\<1>\<2>\<3>\")=1,0,IF(SEARCH(C16&"\","<B>\<1>\<2>\<3>\")=5,1,IF(SEARCH(C16&"\","<B>\<1>\<2>\<3>\")=9,2,IF(SEARCH(C16&"\","<B>\<1>\<2>\<3>\")=13,3,"")))))) | D16: 3.2 Experiência sustentável | F16: =(F17*20+G17*10+H17*10+J17*30+K17*15+L17*15)/100 -> 0
B17: =IF(ISBLANK(C17),"",IF(ISERR(SEARCH(C17&"\","<B>\<1>\<2>\<3>\")),IF(AND(NOT(ISBLANK(B16)),B16<=3),B16,""), IF(SEARCH(C17&"\","<B>\<1>\<2>\<3>\")=1,0,IF(SEARCH(C17&"\","<B>\<1>\<2>\<3>\")=5,1,IF(SEARCH(C17&"\","<B>\<1>\<2>\<3>\")=9,2,IF(SEARCH(C17&"\","<B>\<1>\<2>\<3>\")=13,3,"")))))) | D17: =IF(SUM(A18:A22)<=0,0,COUNTIF(M18:M22,"<>")/SUM(A18:A22)) -> 0 | E17: Finalidade | F17: =(COUNTIFS($A17:$A22,">0",$C17:$C22,"=PG",F17:F22,"=1")*Capa!$G$14+COUNTIFS($A17:$A22,">0",$C17:$C22,"=PG",F17:F22,"=2")*Capa!$H$14+COUNTIFS($A17:$A22,">0",$C17:$C22,"=PG",F17:F22,"=3")*Capa!$I$14+COUNTIFS($A17:$A22,">0",$C17:$C22,"=PG",F17:F22,"=4")*Capa!$J$14)/(COUNTIFS($A17:$A22,">0",$C17:$C22,"=PG")*100) -> 0 | G17: =(COUNTIFS($A17:$A22,">0",$C17:$C22,"=PG",G17:G22,"=1")*Capa!$G$14+COUNTIFS($A17:$A22,">0",$C17:$C22,"=PG",G17:G22,"=2")*Capa!$H$14+COUNTIFS($A17:$A22,">0",$C17:$C22,"=PG",G17:G22,"=3")*Capa!$I$14+COUNTIFS($A17:$A22,">0",$C17:$C22,"=PG",G17:G22,"=4")*Capa!$J$14)/(COUNTIFS($A17:$A22,">0",$C17:$C22,"=PG")*100) -> 0 | H17: =(COUNTIFS($A17:$A22,">0",$C17:$C22,"=PG",H17:H22,"=1")*Capa!$G$14+COUNTIFS($A17:$A22,">0",$C17:$C22,"=PG",H17:H22,"=2")*Capa!$H$14+COUNTIFS($A17:$A22,">0",$C17:$C22,"=PG",H17:H22,"=3")*Capa!$I$14+COUNTIFS($A17:$A22,">0",$C17:$C22,"=PG",H17:H22,"=4")*Capa!$J$14)/(COUNTIFS($A17:$A22,">0",$C17:$C22,"=PG")*100) -> 0 | I17: =COUNTIFS($A18:$A21,">0",I18:I21,">0") -> 0 | J17: =(COUNTIFS($A17:$A22,">0",$C17:$C22,"=PG",J17:J22,"=1")*Capa!$G$14+COUNTIFS($A17:$A22,">0",$C17:$C22,"=PG",J17:J22,"=2")*Capa!$H$14+COUNTIFS($A17:$A22,">0",$C17:$C22,"=PG",J17:J22,"=3")*Capa!$I$14+COUNTIFS($A17:$A22,">0",$C17:$C22,"=PG",J17:J22,"=4")*Capa!$J$14)/(COUNTIFS($A17:$A22,">0",$C17:$C22,"=PG")*100) -> 0 | K17: =(COUNTIFS($A17:$A22,">0",$C17:$C22,"=PG",K17:K22,"=1")*Capa!$G$14+COUNTIFS($A17:$A22,">0",$C17:$C22,"=PG",K17:K22,"=2")*Capa!$H$14+COUNTIFS($A17:$A22,">0",$C17:$C22,"=PG",K17:K22,"=3")*Capa!$I$14+COUNTIFS($A17:$A22,">0",$C17:$C22,"=PG",K17:K22,"=4")*Capa!$J$14)/(COUNTIFS($A17:$A22,">0",$C17:$C22,"=PG")*100) -> 0 | L17: =(COUNTIFS($A17:$A22,">0",$C17:$C22,"=PG",L17:L22,"=1")*Capa!$G$14+COUNTIFS($A17:$A22,">0",$C17:$C22,"=PG",L17:L22,"=2")*Capa!$H$14+COUNTIFS($A17:$A22,">0",$C17:$C22,"=PG",L17:L22,"=3")*Capa!$I$14+COUNTIFS($A17:$A22,">0",$C17:$C22,"=PG",L17:L22,"=4")*Capa!$J$14)/(COUNTIFS($A17:$A22,">0",$C17:$C22,"=PG")*100) -> 0 | M17: =COUNTIFS($A18:$A21,">0",M18:M21,">0") -> 0
A18: =IF(Capa!$B$6>=B18,1,0) -> 1 | B18: 0 | C18: PG | D18: a) Responsividade ao cliente | E18: Buscar assegurar acesso fácil, ágil e objetivo do cliente e eventuais intermediários para: 1) manifestar-se em relação à sua experiência com a organização e seus produtos; 2) Solicitar informações e dar sugestões; e 3) proporcionar respostas ágeis e resolutas e esclarecimentos concisos; aumentando a confiança e o respeito na relação com a organização , seus produtos e seus profissionais.
A19: =IF(Capa!$B$6>=B19,1,0) -> 0 | B19: 2 | C19: PG | D19: b) Resolutividade de manifestações | E19: Direcionar, solucionar, esclarecer e dar retorno ou possibilitar acompanhamento da situação das manifestações recebidas pelos clientes e eventuais intermediários e das ações associadas, corretivas ou preventivas, com agilidade compatível com a classificação e prioridade.
A20: =IF(Capa!$B$6>=B20,1,0) -> 0 | B20: 1 | C20: PG | D20: c) Avaliação da experiência do cliente | E20: Conhecer a percepção dos clientes e eventuais intermediários quanto à: 1) sua experiência com a organização e os produtos recebidos, e 2) ao compromisso da organização com o desenvolvimento sustentável. Obter informações que retroalimentem, com agilidade, a melhoria de produtos e processos. Medir a satisfação dos clientes e sua competitividade, compreendendo os fatores que causam insatisfação.
A21: =IF(Capa!$B$6>=B21,1,0) -> 0 | B21: 3 | C21: PG | D21: d) Fidelização dos clientes | E21: Tornar a experiência do cliente e eventuais intermediários mais valiosa para ele e para a organização, por meio do tratamento de oportunidades de melhoria convergentes e inovações, a partir da integração do conhecimento sobre os clientes-alvo e das manifestações e percepções de clientes.
B22: =IF(ISBLANK(C22),"",IF(ISERR(SEARCH(C22&"\","<B>\<1>\<2>\<3>\")),IF(AND(NOT(ISBLANK(#REF!)),#REF!<=3),#REF!,""), IF(SEARCH(C22&"\","<B>\<1>\<2>\<3>\")=1,0,IF(SEARCH(C22&"\","<B>\<1>\<2>\<3>\")=5,1,IF(SEARCH(C22&"\","<B>\<1>\<2>\<3>\")=9,2,IF(SEARCH(C22&"\","<B>\<1>\<2>\<3>\")=13,3,""))))))

Sheet 4
D1: =Capa!A1 -> MEGplan MEGIA 2026 | F1: Fatores de avaliação
B2: Nv | C2: Cód | F2: Enx | G2: Proa | H2: Digit | I2: IA? | J2: Abrg | K2: Efet | L2: Inov | M2: Orig? | N2: Bônus | O2: Comentário | P2: + / - | Q2: Prática
D3: =IF(SUM(A4:A19)<=0,0,COUNTIFS(A4:A19,"=1",M4:M19,"<>")/SUM(A4:A19)) -> 0 | F3: =MIN(IF(OR(Capa!$B$6=0,Capa!$B$6=1),AVERAGE(F6,F14),(F6*'Quadro Geral'!D16+F14*'Quadro Geral'!D17)/'Quadro Geral'!D15)+N3,1) -> 0 | N3: =IF(OR(AND(Capa!$B$6=2,I4>0),AND(Capa!$B$6=3,I4>1)),0.05,0)+IF(AND(Capa!$B$6=3,I4=1),0.02,0)+IF(OR(AND(Capa!$B$6=2,M4>0),AND(Capa!$B$6=3,M4>1)),0.05,0)+IF(AND(Capa!$B$6=3,M4=1),0.02,0) -> 0
B4: =IF(ISBLANK(C4),"",IF(ISERR(SEARCH(C4&"\","<B>\<1>\<2>\<3>\")),IF(AND(NOT(ISBLANK(#REF!)),#REF!<=3),#REF!,""), IF(SEARCH(C4&"\","<B>\<1>\<2>\<3>\")=1,0,IF(SEARCH(C4&"\","<B>\<1>\<2>\<3>\")=5,1,IF(SEARCH(C4&"\","<B>\<1>\<2>\<3>\")=9,2,IF(SEARCH(C4&"\","<B>\<1>\<2>\<3>\")=13,3,"")))))) | D4: CRITÉRIO 4 - SOCIEDADE | E4: Este Critério avalia os processos gerenciais relativos à responsabilidade social e segurança socioambiental. | F4: =AVERAGE(F7,F19) -> 0 | G4: =AVERAGE(G7,G19) -> 0 | H4: =AVERAGE(H7,H19) -> 0 | I4: =I7+I15 -> 0 | J4: =AVERAGE(J7,J19) -> 0 | K4: =AVERAGE(K7,K19) -> 0 | L4: =AVERAGE(L7,L19) -> 0 | M4: =M7+M15 -> 0
B5: =IF(ISBLANK(C5),"",IF(ISERR(SEARCH(C5&"\","<B>\<1>\<2>\<3>\")),IF(AND(NOT(ISBLANK(#REF!)),#REF!<=3),#REF!,""), IF(SEARCH(C5&"\","<B>\<1>\<2>\<3>\")=1,0,IF(SEARCH(C5&"\","<B>\<1>\<2>\<3>\")=5,1,IF(SEARCH(C5&"\","<B>\<1>\<2>\<3>\")=9,2,IF(SEARCH(C5&"\","<B>\<1>\<2>\<3>\")=13,3,""))))))
B6: =IF(ISBLANK(C6),"",IF(ISERR(SEARCH(C6&"\","<B>\<1>\<2>\<3>\")),IF(AND(NOT(ISBLANK(B5)),B5<=3),B5,""), IF(SEARCH(C6&"\","<B>\<1>\<2>\<3>\")=1,0,IF(SEARCH(C6&"\","<B>\<1>\<2>\<3>\")=5,1,IF(SEARCH(C6&"\","<B>\<1>\<2>\<3>\")=9,2,IF(SEARCH(C6&"\","<B>\<1>\<2>\<3>\")=13,3,"")))))) | D6: 4.1 Responsabilidade social | F6: =(F7*20+G7*10+H7*10+J7*30+K7*15+L7*15)/100 -> 0
B7: =IF(ISBLANK(C7),"",IF(ISERR(SEARCH(C7&"\","<B>\<1>\<2>\<3>\")),IF(AND(NOT(ISBLANK(B6)),B6<=3),B6,""), IF(SEARCH(C7&"\","<B>\<1>\<2>\<3>\")=1,0,IF(SEARCH(C7&"\","<B>\<1>\<2>\<3>\")=5,1,IF(SEARCH(C7&"\","<B>\<1>\<2>\<3>\")=9,2,IF(SEARCH(C7&"\","<B>\<1>\<2>\<3>\")=13,3,"")))))) | D7: =IF(SUM(A8:A13)<=0,0,COUNTIF(M8:M13,"<>")/SUM(A8:A13)) -> 0 | E7: Finalidade | F7: =(COUNTIFS($A7:$A13,">0",$C7:$C13,"=PG",F7:F13,"=1")*Capa!$G$14+COUNTIFS($A7:$A13,">0",$C7:$C13,"=PG",F7:F13,"=2")*Capa!$H$14+COUNTIFS($A7:$A13,">0",$C7:$C13,"=PG",F7:F13,"=3")*Capa!$I$14+COUNTIFS($A7:$A13,">0",$C7:$C13,"=PG",F7:F13,"=4")*Capa!$J$14)/(COUNTIFS($A7:$A13,">0",$C7:$C13,"=PG")*100) -> 0 | G7: =(COUNTIFS($A7:$A13,">0",$C7:$C13,"=PG",G7:G13,"=1")*Capa!$G$14+COUNTIFS($A7:$A13,">0",$C7:$C13,"=PG",G7:G13,"=2")*Capa!$H$14+COUNTIFS($A7:$A13,">0",$C7:$C13,"=PG",G7:G13,"=3")*Capa!$I$14+COUNTIFS($A7:$A13,">0",$C7:$C13,"=PG",G7:G13,"=4")*Capa!$J$14)/(COUNTIFS($A7:$A13,">0",$C7:$C13,"=PG")*100) -> 0 | H7: =(COUNTIFS($A7:$A13,">0",$C7:$C13,"=PG",H7:H13,"=1")*Capa!$G$14+COUNTIFS($A7:$A13,">0",$C7:$C13,"=PG",H7:H13,"=2")*Capa!$H$14+COUNTIFS($A7:$A13,">0",$C7:$C13,"=PG",H7:H13,"=3")*Capa!$I$14+COUNTIFS($A7:$A13,">0",$C7:$C13,"=PG",H7:H13,"=4")*Capa!$J$14)/(COUNTIFS($A7:$A13,">0",$C7:$C13,"=PG")*100) -> 0 | I7: =COUNTIFS($A8:$A12,">0",I8:I12,">0") -> 0 | J7: =(COUNTIFS($A7:$A13,">0",$C7:$C13,"=PG",J7:J13,"=1")*Capa!$G$14+COUNTIFS($A7:$A13,">0",$C7:$C13,"=PG",J7:J13,"=2")*Capa!$H$14+COUNTIFS($A7:$A13,">0",$C7:$C13,"=PG",J7:J13,"=3")*Capa!$I$14+COUNTIFS($A7:$A13,">0",$C7:$C13,"=PG",J7:J13,"=4")*Capa!$J$14)/(COUNTIFS($A7:$A13,">0",$C7:$C13,"=PG")*100) -> 0 | K7: =(COUNTIFS($A7:$A13,">0",$C7:$C13,"=PG",K7:K13,"=1")*Capa!$G$14+COUNTIFS($A7:$A13,">0",$C7:$C13,"=PG",K7:K13,"=2")*Capa!$H$14+COUNTIFS($A7:$A13,">0",$C7:$C13,"=PG",K7:K13,"=3")*Capa!$I$14+COUNTIFS($A7:$A13,">0",$C7:$C13,"=PG",K7:K13,"=4")*Capa!$J$14)/(COUNTIFS($A7:$A13,">0",$C7:$C13,"=PG")*100) -> 0 | L7: =(COUNTIFS($A7:$A13,">0",$C7:$C13,"=PG",L7:L13,"=1")*Capa!$G$14+COUNTIFS($A7:$A13,">0",$C7:$C13,"=PG",L7:L13,"=2")*Capa!$H$14+COUNTIFS($A7:$A13,">0",$C7:$C13,"=PG",L7:L13,"=3")*Capa!$I$14+COUNTIFS($A7:$A13,">0",$C7:$C13,"=PG",L7:L13,"=4")*Capa!$J$14)/(COUNTIFS($A7:$A13,">0",$C7:$C13,"=PG")*100) -> 0 | M7: =COUNTIFS($A8:$A12,">0",M8:M12,">0") -> 0
A8: =IF(Capa!$B$6>=B8,1,0) -> 1 | B8: 0 | C8: PG | D8: Manutenção da legalidade | E8: Analisar e atender às leis, regulamentos e normas exigíveis da organização, de qualquer natureza, em todas as regiões de atuação, tempestivamente.
A9: =IF(Capa!$B$6>=B9,1,0) -> 0 | B9: 1 | C9: PG | D9: Adoção de códigos voluntários, incluindo os Objetivos do Desenvolvimento Sustentável das Nações Unidas | E9: Avaliar e selecionar os códigos e normas da sociedade, de adesão voluntária, de forma a buscar incorporar suas recomendações e tornar seus processos mais efetivos. O acervo de Objetivos do Desenvolvimento Sustentável das Nações Unidas (ODS) deve ser um código eletivo utilizado pela organização.
A10: =IF(Capa!$B$6>=B10,1,0) -> 0 | B10: 3 | C10: PG | D10: Avaliação das ações voltadas ao desenvolvimento sustentável | E10: Quantificar o retorno real das ações para o desenvolvimento sustentável, incluindo para a descarbonização do negócio.
A11: =IF(Capa!$B$6>=B11,1,0) -> 0 | B11: 1 | C11: PG | D11: Comunicação de ações voltadas ao desenvolvimento sustentável, incluindo resultados | E11: Comunicar à sociedade as principais ações voltadas ao desenvolvimento sustentável e seus resultados, para demonstrar o comprometimento com o desenvolvimento sustentável e para influenciar outras organizações pelo exemplo.
A12: =IF(Capa!$B$6>=B12,1,0) -> 0 | B12: 2 | C12: PG | D12: Avaliação da imagem institucional, incluindo relativa à sustentabilidade | E12: Conhecer a percepção da sociedade acerca da responsabilidade social da organização e da sua contribuição para o desenvolvimento sustentável, incluindo a coerência percebida entre discurso e prática, para poder melhorar o desempenho socioambiental e sua comunicação.
B13: =IF(ISBLANK(C13),"",IF(ISERR(SEARCH(C13&"\","<B>\<1>\<2>\<3>\")),IF(AND(NOT(ISBLANK(#REF!)),#REF!<=3),#REF!,""), IF(SEARCH(C13&"\","<B>\<1>\<2>\<3>\")=1,0,IF(SEARCH(C13&"\","<B>\<1>\<2>\<3>\")=5,1,IF(SEARCH(C13&"\","<B>\<1>\<2>\<3>\")=9,2,IF(SEARCH(C13&"\","<B>\<1>\<2>\<3>\")=13,3,""))))))
B14: =IF(ISBLANK(C14),"",IF(ISERR(SEARCH(C14&"\","<B>\<1>\<2>\<3>\")),IF(AND(NOT(ISBLANK(B13)),B13<=3),B13,""), IF(SEARCH(C14&"\","<B>\<1>\<2>\<3>\")=1,0,IF(SEARCH(C14&"\","<B>\<1>\<2>\<3>\")=5,1,IF(SEARCH(C14&"\","<B>\<1>\<2>\<3>\")=9,2,IF(SEARCH(C14&"\","<B>\<1>\<2>\<3>\")=13,3,"")))))) | D14: 4.2 Segurança socioambiental | F14: =(F15*20+G15*10+H15*10+J15*30+K15*15+L15*15)/100 -> 0
B15: =IF(ISBLANK(C15),"",IF(ISERR(SEARCH(C15&"\","<B>\<1>\<2>\<3>\")),IF(AND(NOT(ISBLANK(B14)),B14<=3),B14,""), IF(SEARCH(C15&"\","<B>\<1>\<2>\<3>\")=1,0,IF(SEARCH(C15&"\","<B>\<1>\<2>\<3>\")=5,1,IF(SEARCH(C15&"\","<B>\<1>\<2>\<3>\")=9,2,IF(SEARCH(C15&"\","<B>\<1>\<2>\<3>\")=13,3,"")))))) | D15: =IF(SUM(A16:A19)<=0,0,COUNTIF(M16:M19,"<>")/SUM(A16:A19)) -> 0 | E15: Finalidade | F15: =(COUNTIFS($A15:$A19,">0",$C15:$C19,"=PG",F15:F19,"=1")*Capa!$G$14+COUNTIFS($A15:$A19,">0",$C15:$C19,"=PG",F15:F19,"=2")*Capa!$H$14+COUNTIFS($A15:$A19,">0",$C15:$C19,"=PG",F15:F19,"=3")*Capa!$I$14+COUNTIFS($A15:$A19,">0",$C15:$C19,"=PG",F15:F19,"=4")*Capa!$J$14)/(COUNTIFS($A15:$A19,">0",$C15:$C19,"=PG")*100) -> 0 | G15: =(COUNTIFS($A15:$A19,">0",$C15:$C19,"=PG",G15:G19,"=1")*Capa!$G$14+COUNTIFS($A15:$A19,">0",$C15:$C19,"=PG",G15:G19,"=2")*Capa!$H$14+COUNTIFS($A15:$A19,">0",$C15:$C19,"=PG",G15:G19,"=3")*Capa!$I$14+COUNTIFS($A15:$A19,">0",$C15:$C19,"=PG",G15:G19,"=4")*Capa!$J$14)/(COUNTIFS($A15:$A19,">0",$C15:$C19,"=PG")*100) -> 0 | H15: =(COUNTIFS($A15:$A19,">0",$C15:$C19,"=PG",H15:H19,"=1")*Capa!$G$14+COUNTIFS($A15:$A19,">0",$C15:$C19,"=PG",H15:H19,"=2")*Capa!$H$14+COUNTIFS($A15:$A19,">0",$C15:$C19,"=PG",H15:H19,"=3")*Capa!$I$14+COUNTIFS($A15:$A19,">0",$C15:$C19,"=PG",H15:H19,"=4")*Capa!$J$14)/(COUNTIFS($A15:$A19,">0",$C15:$C19,"=PG")*100) -> 0 | I15: =COUNTIFS($A16:$A18,">0",I16:I18,">0") -> 0 | J15: =(COUNTIFS($A15:$A19,">0",$C15:$C19,"=PG",J15:J19,"=1")*Capa!$G$14+COUNTIFS($A15:$A19,">0",$C15:$C19,"=PG",J15:J19,"=2")*Capa!$H$14+COUNTIFS($A15:$A19,">0",$C15:$C19,"=PG",J15:J19,"=3")*Capa!$I$14+COUNTIFS($A15:$A19,">0",$C15:$C19,"=PG",J15:J19,"=4")*Capa!$J$14)/(COUNTIFS($A15:$A19,">0",$C15:$C19,"=PG")*100) -> 0 | K15: =(COUNTIFS($A15:$A19,">0",$C15:$C19,"=PG",K15:K19,"=1")*Capa!$G$14+COUNTIFS($A15:$A19,">0",$C15:$C19,"=PG",K15:K19,"=2")*Capa!$H$14+COUNTIFS($A15:$A19,">0",$C15:$C19,"=PG",K15:K19,"=3")*Capa!$I$14+COUNTIFS($A15:$A19,">0",$C15:$C19,"=PG",K15:K19,"=4")*Capa!$J$14)/(COUNTIFS($A15:$A19,">0",$C15:$C19,"=PG")*100) -> 0 | L15: =(COUNTIFS($A15:$A19,">0",$C15:$C19,"=PG",L15:L19,"=1")*Capa!$G$14+COUNTIFS($A15:$A19,">0",$C15:$C19,"=PG",L15:L19,"=2")*Capa!$H$14+COUNTIFS($A15:$A19,">0",$C15:$C19,"=PG",L15:L19,"=3")*Capa!$I$14+COUNTIFS($A15:$A19,">0",$C15:$C19,"=PG",L15:L19,"=4")*Capa!$J$14)/(COUNTIFS($A15:$A19,">0",$C15:$C19,"=PG")*100) -> 0 | M15: =COUNTIFS($A16:$A18,">0",M16:M18,">0") -> 0
A16: =IF(Capa!$B$6>=B16,1,0) -> 1 | B16: 0 | C16: PG | D16: a) Tratamento de impactos adversos | E16: Mapear e monitorar, de forma integrada e participativa, os impactos adversos, sociais e ambientais, passados, presentes e potenciais, de externalidades decorrentes de decisões, produtos e operações e acompanhar a sua mitigação (eliminação, minimização, compensação ou negativação).
A17: =IF(Capa!$B$6>=B17,1,0) -> 0 | B17: 2 | C17: PG | D17: b) Prontidão para emergências | E17: Manter a organização preparada, incluindo por meio da realização de smulados, para responder a potenciais emergências associadas aos impactos adversos sociais e ambientais mais relevantes, incluindo os que afetam a continuidade do negócio.
A18: =IF(Capa!$B$6>=B18,1,0) -> 0 | B18: 3 | C18: PG | D18: c) Avaliação da segurança socioambiental | E18: Medir a efetividade da prontidão para emergências e da mitigação de impactos sociais e ambientais adversos, incluindo relativos à continuidade do negócio, e possibilitar a melhoria dos produtos e processos.

Sheet 5
D1: =Capa!A1 -> MEGplan MEGIA 2026 | F1: Fatores de avaliação
B2: Nv | C2: Cód | F2: Enx | G2: Proa | H2: Digit | I2: IA? | J2: Abrg | K2: Efet | L2: Inov | M2: Orig? | N2: Bônus | O2: Comentário | P2: + / - | Q2: Prática
D3: =IF(SUM(A4:A23)<=0,0,COUNTIFS(A4:A23,"=1",M4:M23,"<>")/SUM(A4:A23)) -> 0 | E3: Este Critério avalia os processos gerenciais relativos ao conhecimento, inovação e tecnologia, aceleradores da evolução dos processos. | F3: =MIN(IF(Capa!$B$6=0,F18,IF(Capa!$B$6=1,AVERAGE(F6,F12,F18),(F6*'Quadro Geral'!D19+F12*'Quadro Geral'!D20+F18*'Quadro Geral'!D21))/'Quadro Geral'!D18)+N3,1) -> 0 | N3: =IF(OR(AND(Capa!$B$6=0,'1'!I4+'2'!I4+'3'!I4+'4'!I4+'5'!I4+'6'!I4+'7'!I4>0),AND(Capa!$B$6=1,'1'!I4+'2'!I4+'3'!I4+'4'!I4+'5'!I4+'6'!I4+'7'!I4>1),AND(Capa!$B$6=2,I4>0),AND(Capa!$B$6=3,I4>1)),0.05,0)+ IF(OR(AND(Capa!$B$6=1,'1'!I4+'2'!I4+'3'!I4+'4'!I4+'5'!I4+'6'!I4+'7'!I4=1),AND(Capa!$B$6=3,I4=1)),0.02,0)+ IF(OR(AND(Capa!$B$6=0,'1'!M4+'2'!M4+'3'!M4+'4'!M4+'5'!M4+'6'!M4+'7'!M4>0),AND(Capa!$B$6=1,'1'!M4+'2'!M4+'3'!M4+'4'!M4+'5'!M4+'6'!M4+'7'!M4>1),AND(Capa!$B$6=2,M4>0),AND(Capa!$B$6=3,M4>1)),0.05,0)+ IF(OR(AND(Capa!$B$6=1,'1'!M4+'2'!M4+'3'!M4+'4'!M4+'5'!M4+'6'!M4+'7'!M4=1),AND(Capa!$B$6=3,M4=1)),0.02,0) -> 0
B4: =IF(ISBLANK(C4),"",IF(ISERR(SEARCH(C4&"\","<B>\<1>\<2>\<3>\")),IF(AND(NOT(ISBLANK(#REF!)),#REF!<=3),#REF!,""), IF(SEARCH(C4&"\","<B>\<1>\<2>\<3>\")=1,0,IF(SEARCH(C4&"\","<B>\<1>\<2>\<3>\")=5,1,IF(SEARCH(C4&"\","<B>\<1>\<2>\<3>\")=9,2,IF(SEARCH(C4&"\","<B>\<1>\<2>\<3>\")=13,3,"")))))) | D4: CRITÉRIO 5 - CONHECIMENTO, INOVAÇÃO E TECNOLOGIA | F4: =AVERAGE(F7,F23) -> 0 | G4: =AVERAGE(G7,G23) -> 0 | H4: =AVERAGE(H7,H23) -> 0 | I4: =I7+I13+I19 -> 0 | J4: =AVERAGE(J7,J23) -> 0 | K4: =AVERAGE(K7,K23) -> 0 | L4: =AVERAGE(L7,L23) -> 0 | M4: =M7+M13+M19 -> 0
B5: =IF(ISBLANK(C5),"",IF(ISERR(SEARCH(C5&"\","<B>\<1>\<2>\<3>\")),IF(AND(NOT(ISBLANK(#REF!)),#REF!<=3),#REF!,""), IF(SEARCH(C5&"\","<B>\<1>\<2>\<3>\")=1,0,IF(SEARCH(C5&"\","<B>\<1>\<2>\<3>\")=5,1,IF(SEARCH(C5&"\","<B>\<1>\<2>\<3>\")=9,2,IF(SEARCH(C5&"\","<B>\<1>\<2>\<3>\")=13,3,""))))))
